BEGIN:VCALENDAR
METHOD:PUBLISH
PRODID:-//Weblication CMS
VERSION:2.0
BEGIN:VEVENT
SUMMARY:Kinderturnen mit Jennifer Schneeberg
DTSTART:20251106T100000
DTEND:20251106T120000
DESCRIPTION:Die Gruppenstunden bieten den Kindern viel Platz und Spaß an der Bewegung und das Entwickeln von eigenen Ideen. Besonders steht hierbei die Wahrnehmungsschulung in Bezug auf den eigenen Körper, den Kleingeräten, mit Alltagsmaterialien und vor allem der Umgang mit anderen Kindern im Vordergrund. Die Gestaltung beruht auf der Grundlagepsychomotorischer Entwicklungsprinzipien und soll jedem Kind auf individuelle Weise den Weg zum Ziel ermöglichen, um das Selbstbewusstsein und damit die Lust an der Bewegung immer mehr zu gewinnen.  Leitung: Jennifer Schneeberg, Lizenzierte Übungsleiterin C (Breitensport), "Liederturnen- Fachkraft in der Kita".  Anmeldung über die Liste an der Infowand.
LOCATION:
UID:https://www.familienzentrum-almefloehe.de/fza/veranstaltungen/termine/Kinderturnen-mit-jennifer-Schneeberg.php
URL:https://www.familienzentrum-almefloehe.de/fza/veranstaltungen/termine/Kinderturnen-mit-jennifer-Schneeberg.php
END:VEVENT
BEGIN:VEVENT
SUMMARY:Kinderturnen mit Jennifer Schneeberg
DTSTART:20251113T100000
DTEND:20251113T120000
DESCRIPTION:Die Gruppenstunden bieten den Kindern viel Platz und Spaß an der Bewegung und das Entwickeln von eigenen Ideen. Besonders steht hierbei die Wahrnehmungsschulung in Bezug auf den eigenen Körper, den Kleingeräten, mit Alltagsmaterialien und vor allem der Umgang mit anderen Kindern im Vordergrund. Die Gestaltung beruht auf der Grundlagepsychomotorischer Entwicklungsprinzipien und soll jedem Kind auf individuelle Weise den Weg zum Ziel ermöglichen, um das Selbstbewusstsein und damit die Lust an der Bewegung immer mehr zu gewinnen.  Leitung: Jennifer Schneeberg, Lizenzierte Übungsleiterin C (Breitensport), "Liederturnen- Fachkraft in der Kita".  Anmeldung über die Liste an der Infowand.
LOCATION:
UID:https://www.familienzentrum-almefloehe.de/fza/veranstaltungen/termine/Kinderturnen-mit-jennifer-Schneeberg.php
URL:https://www.familienzentrum-almefloehe.de/fza/veranstaltungen/termine/Kinderturnen-mit-jennifer-Schneeberg.php
END:VEVENT
BEGIN:VEVENT
SUMMARY:Kinderturnen mit Jennifer Schneeberg
DTSTART:20251120T100000
DTEND:20251120T120000
DESCRIPTION:Die Gruppenstunden bieten den Kindern viel Platz und Spaß an der Bewegung und das Entwickeln von eigenen Ideen. Besonders steht hierbei die Wahrnehmungsschulung in Bezug auf den eigenen Körper, den Kleingeräten, mit Alltagsmaterialien und vor allem der Umgang mit anderen Kindern im Vordergrund. Die Gestaltung beruht auf der Grundlagepsychomotorischer Entwicklungsprinzipien und soll jedem Kind auf individuelle Weise den Weg zum Ziel ermöglichen, um das Selbstbewusstsein und damit die Lust an der Bewegung immer mehr zu gewinnen.  Leitung: Jennifer Schneeberg, Lizenzierte Übungsleiterin C (Breitensport), "Liederturnen- Fachkraft in der Kita".  Anmeldung über die Liste an der Infowand.
LOCATION:
UID:https://www.familienzentrum-almefloehe.de/fza/veranstaltungen/termine/Kinderturnen-mit-jennifer-Schneeberg.php
URL:https://www.familienzentrum-almefloehe.de/fza/veranstaltungen/termine/Kinderturnen-mit-jennifer-Schneeberg.php
END:VEVENT
BEGIN:VEVENT
SUMMARY:Kinderturnen mit Jennifer Schneeberg
DTSTART:20251127T100000
DTEND:20251127T120000
DESCRIPTION:Die Gruppenstunden bieten den Kindern viel Platz und Spaß an der Bewegung und das Entwickeln von eigenen Ideen. Besonders steht hierbei die Wahrnehmungsschulung in Bezug auf den eigenen Körper, den Kleingeräten, mit Alltagsmaterialien und vor allem der Umgang mit anderen Kindern im Vordergrund. Die Gestaltung beruht auf der Grundlagepsychomotorischer Entwicklungsprinzipien und soll jedem Kind auf individuelle Weise den Weg zum Ziel ermöglichen, um das Selbstbewusstsein und damit die Lust an der Bewegung immer mehr zu gewinnen.  Leitung: Jennifer Schneeberg, Lizenzierte Übungsleiterin C (Breitensport), "Liederturnen- Fachkraft in der Kita".  Anmeldung über die Liste an der Infowand.
LOCATION:
UID:https://www.familienzentrum-almefloehe.de/fza/veranstaltungen/termine/Kinderturnen-mit-jennifer-Schneeberg.php
URL:https://www.familienzentrum-almefloehe.de/fza/veranstaltungen/termine/Kinderturnen-mit-jennifer-Schneeberg.php
END:VEVENT
BEGIN:VEVENT
SUMMARY:Kinderturnen mit Jennifer Schneeberg
DTSTART:20251204T100000
DTEND:20251204T120000
DESCRIPTION:Die Gruppenstunden bieten den Kindern viel Platz und Spaß an der Bewegung und das Entwickeln von eigenen Ideen. Besonders steht hierbei die Wahrnehmungsschulung in Bezug auf den eigenen Körper, den Kleingeräten, mit Alltagsmaterialien und vor allem der Umgang mit anderen Kindern im Vordergrund. Die Gestaltung beruht auf der Grundlagepsychomotorischer Entwicklungsprinzipien und soll jedem Kind auf individuelle Weise den Weg zum Ziel ermöglichen, um das Selbstbewusstsein und damit die Lust an der Bewegung immer mehr zu gewinnen.  Leitung: Jennifer Schneeberg, Lizenzierte Übungsleiterin C (Breitensport), "Liederturnen- Fachkraft in der Kita".  Anmeldung über die Liste an der Infowand.
LOCATION:
UID:https://www.familienzentrum-almefloehe.de/fza/veranstaltungen/termine/Kinderturnen-mit-jennifer-Schneeberg.php
URL:https://www.familienzentrum-almefloehe.de/fza/veranstaltungen/termine/Kinderturnen-mit-jennifer-Schneeberg.php
END:VEVENT
BEGIN:VEVENT
SUMMARY:Kinderturnen mit Jennifer Schneeberg
DTSTART:20251211T100000
DTEND:20251211T120000
DESCRIPTION:Die Gruppenstunden bieten den Kindern viel Platz und Spaß an der Bewegung und das Entwickeln von eigenen Ideen. Besonders steht hierbei die Wahrnehmungsschulung in Bezug auf den eigenen Körper, den Kleingeräten, mit Alltagsmaterialien und vor allem der Umgang mit anderen Kindern im Vordergrund. Die Gestaltung beruht auf der Grundlagepsychomotorischer Entwicklungsprinzipien und soll jedem Kind auf individuelle Weise den Weg zum Ziel ermöglichen, um das Selbstbewusstsein und damit die Lust an der Bewegung immer mehr zu gewinnen.  Leitung: Jennifer Schneeberg, Lizenzierte Übungsleiterin C (Breitensport), "Liederturnen- Fachkraft in der Kita".  Anmeldung über die Liste an der Infowand.
LOCATION:
UID:https://www.familienzentrum-almefloehe.de/fza/veranstaltungen/termine/Kinderturnen-mit-jennifer-Schneeberg.php
URL:https://www.familienzentrum-almefloehe.de/fza/veranstaltungen/termine/Kinderturnen-mit-jennifer-Schneeberg.php
END:VEVENT
BEGIN:VEVENT
SUMMARY:Kinderturnen mit Jennifer Schneeberg
DTSTART:20251218T100000
DTEND:20251218T120000
DESCRIPTION:Die Gruppenstunden bieten den Kindern viel Platz und Spaß an der Bewegung und das Entwickeln von eigenen Ideen. Besonders steht hierbei die Wahrnehmungsschulung in Bezug auf den eigenen Körper, den Kleingeräten, mit Alltagsmaterialien und vor allem der Umgang mit anderen Kindern im Vordergrund. Die Gestaltung beruht auf der Grundlagepsychomotorischer Entwicklungsprinzipien und soll jedem Kind auf individuelle Weise den Weg zum Ziel ermöglichen, um das Selbstbewusstsein und damit die Lust an der Bewegung immer mehr zu gewinnen.  Leitung: Jennifer Schneeberg, Lizenzierte Übungsleiterin C (Breitensport), "Liederturnen- Fachkraft in der Kita".  Anmeldung über die Liste an der Infowand.
LOCATION:
UID:https://www.familienzentrum-almefloehe.de/fza/veranstaltungen/termine/Kinderturnen-mit-jennifer-Schneeberg.php
URL:https://www.familienzentrum-almefloehe.de/fza/veranstaltungen/termine/Kinderturnen-mit-jennifer-Schneeberg.php
END:VEVENT
END:VCALENDAR